BEGIN:VCALENDAR
PRODID:-//Hannon Hill Events//Cascade CMS//EN
VERSION:2.0
X-WR-CALNAME:Yoga: The Secret Tool for Academic Success
X-WR-TIMEZONE:America/New_York
BEGIN:VTIMEZONE
TZID:America/New_York
BEGIN:DAYLIGHT
TZOFFSETFROM:-0500
TZOFFSETTO:-0400
TZNAME:EDT
DTSTART:19700308T020000
RRULE:FREQ=YEARLY;BYMONTH=3;BYDAY=2SU
END:DAYLIGHT
BEGIN:STANDARD
TZOFFSETFROM:-0400
TZOFFSETTO:-0500
TZNAME:EST
DTSTART:19701101T020000
RRULE:FREQ=YEARLY;BYMONTH=11;BYDAY=1SU
END:STANDARD
END:VTIMEZONE
BEGIN:VEVENT
DTSTART:20260421T110000
DTEND:20260421T114500
DTSTAMP:20260413T162711
UID:8886b30dac1e040b58b558ee33fa4901
CREATED:20260413T162702
DESCRIPTION:Join Swati Kumari\, Teacher of Indian Culture as she discusses
 mindfulness and yoga as tools for academic success.
LAST-MODIFIED:20260413T162702
SEQUENCE:0
STATUS:CONFIRMED
SUMMARY:Yoga: The Secret Tool for Academic Success
TRANSP:OPAQUE
END:VEVENT
END:VCALENDAR
