BEGIN:VCALENDAR
PRODID:-//Hannon Hill Events//Cascade CMS//EN
VERSION:2.0
X-WR-CALNAME:Happy Earth Day: Trash to Treasure!
X-WR-TIMEZONE:America/New_York
BEGIN:VTIMEZONE
TZID:America/New_York
BEGIN:DAYLIGHT
TZOFFSETFROM:-0500
TZOFFSETTO:-0400
TZNAME:EDT
DTSTART:19700308T020000
RRULE:FREQ=YEARLY;BYMONTH=3;BYDAY=2SU
END:DAYLIGHT
BEGIN:STANDARD
TZOFFSETFROM:-0400
TZOFFSETTO:-0500
TZNAME:EST
DTSTART:19701101T020000
RRULE:FREQ=YEARLY;BYMONTH=11;BYDAY=1SU
END:STANDARD
END:VTIMEZONE
BEGIN:VEVENT
DTSTART:20260422T113000
DTEND:20260422T133000
DTSTAMP:20260331T163658
UID:459cf4edac1e040b365d1aea6ae1f82a
CREATED:20260331T163647
DESCRIPTION:DIY Recycle Bottles\, Treats\, &amp\; More!
LAST-MODIFIED:20260331T163647
SEQUENCE:0
STATUS:CONFIRMED
SUMMARY:Happy Earth Day: Trash to Treasure!
TRANSP:OPAQUE
END:VEVENT
END:VCALENDAR
