BEGIN:VCALENDAR
PRODID:-//Hannon Hill Events//Cascade CMS//EN
VERSION:2.0
X-WR-CALNAME:Certified Leadership #6
X-WR-TIMEZONE:America/New_York
BEGIN:VTIMEZONE
TZID:America/New_York
BEGIN:DAYLIGHT
TZOFFSETFROM:-0500
TZOFFSETTO:-0400
TZNAME:EDT
DTSTART:19700308T020000
RRULE:FREQ=YEARLY;BYMONTH=3;BYDAY=2SU
END:DAYLIGHT
BEGIN:STANDARD
TZOFFSETFROM:-0400
TZOFFSETTO:-0500
TZNAME:EST
DTSTART:19701101T020000
RRULE:FREQ=YEARLY;BYMONTH=11;BYDAY=1SU
END:STANDARD
END:VTIMEZONE
BEGIN:VEVENT
DTSTART:20260421T120000
DTEND:20260421T130000
DTSTAMP:20260331T163348
UID:459a1c3fac1e040b365d1aea19cae204
CREATED:20260331T163340
DESCRIPTION:What&apos\;s on your Plate?\, Food &amp\; More!
LAST-MODIFIED:20260331T163340
SEQUENCE:0
STATUS:CONFIRMED
SUMMARY:Certified Leadership #6
TRANSP:OPAQUE
END:VEVENT
END:VCALENDAR
