BEGIN:VCALENDAR
PRODID:-//Hannon Hill Events//Cascade CMS//EN
VERSION:2.0
X-WR-CALNAME:Friday Science Seminar Series
X-WR-TIMEZONE:America/New_York
BEGIN:VTIMEZONE
TZID:America/New_York
BEGIN:DAYLIGHT
TZOFFSETFROM:-0500
TZOFFSETTO:-0400
TZNAME:EDT
DTSTART:19700308T020000
RRULE:FREQ=YEARLY;BYMONTH=3;BYDAY=2SU
END:DAYLIGHT
BEGIN:STANDARD
TZOFFSETFROM:-0400
TZOFFSETTO:-0500
TZNAME:EST
DTSTART:19701101T020000
RRULE:FREQ=YEARLY;BYMONTH=11;BYDAY=1SU
END:STANDARD
END:VTIMEZONE
BEGIN:VEVENT
DTSTART:20260424T163000
DTEND:20260424T173000
DTSTAMP:20260130T155902
UID:1076f4ddac1e040b06ab5ae453a44bcf
CREATED:20260130T145237
DESCRIPTION:Shark Research and Conservation in the Mesoamerican Reef\nSpea
ker: Gabriela Ochoa
LAST-MODIFIED:20260130T155848
SEQUENCE:0
STATUS:CONFIRMED
SUMMARY:Friday Science Seminar Series
TRANSP:OPAQUE
END:VEVENT
END:VCALENDAR
