BEGIN:VCALENDAR
PRODID:-//Hannon Hill Events//Cascade CMS//EN
VERSION:2.0
X-WR-CALNAME:North Spring Fling
X-WR-TIMEZONE:America/New_York
BEGIN:VTIMEZONE
TZID:America/New_York
BEGIN:DAYLIGHT
TZOFFSETFROM:-0500
TZOFFSETTO:-0400
TZNAME:EDT
DTSTART:19700308T020000
RRULE:FREQ=YEARLY;BYMONTH=3;BYDAY=2SU
END:DAYLIGHT
BEGIN:STANDARD
TZOFFSETFROM:-0400
TZOFFSETTO:-0500
TZNAME:EST
DTSTART:19701101T020000
RRULE:FREQ=YEARLY;BYMONTH=11;BYDAY=1SU
END:STANDARD
END:VTIMEZONE
BEGIN:VEVENT
DTSTART:20260422T120000
DTEND:20260422T140000
DTSTAMP:20260407T133211
UID:69002e37ac1e040b58b558ee98ddff64
CREATED:20260407T133152
DESCRIPTION:Celebrate Earth Day by planting your own garden while also enj
oying spring activities!
LAST-MODIFIED:20260407T133152
SEQUENCE:0
STATUS:CONFIRMED
SUMMARY:North Spring Fling
TRANSP:OPAQUE
END:VEVENT
END:VCALENDAR
