BEGIN:VCALENDAR
PRODID:-//Hannon Hill Events//Cascade CMS//EN
VERSION:2.0
X-WR-CALNAME:North Last Certified Leader
X-WR-TIMEZONE:America/New_York
BEGIN:VTIMEZONE
TZID:America/New_York
BEGIN:DAYLIGHT
TZOFFSETFROM:-0500
TZOFFSETTO:-0400
TZNAME:EDT
DTSTART:19700308T020000
RRULE:FREQ=YEARLY;BYMONTH=3;BYDAY=2SU
END:DAYLIGHT
BEGIN:STANDARD
TZOFFSETFROM:-0400
TZOFFSETTO:-0500
TZNAME:EST
DTSTART:19701101T020000
RRULE:FREQ=YEARLY;BYMONTH=11;BYDAY=1SU
END:STANDARD
END:VTIMEZONE
BEGIN:VEVENT
DTSTART:20260421T123000
DTEND:20260421T133000
DTSTAMP:20260408T110316
UID:68fa3f4aac1e040b58b558ee1066eb90
CREATED:20260407T132523
DESCRIPTION:Last opportunity of the spring term to learn the secrets on ho
w to be a true leader!
LAST-MODIFIED:20260407T132523
SEQUENCE:0
STATUS:CONFIRMED
SUMMARY:North Last Certified Leader
TRANSP:OPAQUE
END:VEVENT
END:VCALENDAR
