BEGIN:VCALENDAR
PRODID:-//Hannon Hill Events//Cascade CMS//EN
VERSION:2.0
X-WR-CALNAME:Dou Beaux Arts
X-WR-TIMEZONE:America/New_York
BEGIN:VTIMEZONE
TZID:America/New_York
BEGIN:DAYLIGHT
TZOFFSETFROM:-0500
TZOFFSETTO:-0400
TZNAME:EDT
DTSTART:19700308T020000
RRULE:FREQ=YEARLY;BYMONTH=3;BYDAY=2SU
END:DAYLIGHT
BEGIN:STANDARD
TZOFFSETFROM:-0400
TZOFFSETTO:-0500
TZNAME:EST
DTSTART:19701101T020000
RRULE:FREQ=YEARLY;BYMONTH=11;BYDAY=1SU
END:STANDARD
END:VTIMEZONE
BEGIN:VEVENT
DTSTART:20260420T110000
DTEND:20260420T123000
DTSTAMP:20260220T094336
UID:7b7fb115ac1e040b42bdcd94de2e611b
CREATED:20260220T094131
DESCRIPTION:International piano duo Catherine Lan and Tao Lin bring dynami
c performances worldwide\, from NPR features to Carnegie Hall\, with 2024 
residency honors in France.
LAST-MODIFIED:20260220T094323
SEQUENCE:0
STATUS:CONFIRMED
SUMMARY:Dou Beaux Arts
TRANSP:OPAQUE
END:VEVENT
END:VCALENDAR
