BEGIN:VCALENDAR
PRODID:-//Hannon Hill Events//Cascade CMS//EN
VERSION:2.0
X-WR-CALNAME:Disney College Program Virtual Workshop
X-WR-TIMEZONE:America/New_York
BEGIN:VTIMEZONE
TZID:America/New_York
BEGIN:DAYLIGHT
TZOFFSETFROM:-0500
TZOFFSETTO:-0400
TZNAME:EDT
DTSTART:19700308T020000
RRULE:FREQ=YEARLY;BYMONTH=3;BYDAY=2SU
END:DAYLIGHT
BEGIN:STANDARD
TZOFFSETFROM:-0400
TZOFFSETTO:-0500
TZNAME:EST
DTSTART:19701101T020000
RRULE:FREQ=YEARLY;BYMONTH=11;BYDAY=1SU
END:STANDARD
END:VTIMEZONE
BEGIN:VEVENT
DTSTART:20260423T120000
DTEND:20260423T130000
DTSTAMP:20260403T161034
UID:54e47a5cac1e040b2c463b8f2dd82831
CREATED:20260403T154912
DESCRIPTION:Discover the Magic of the Disney College Program. Ready to tur
n your college experience into something unforgettable? Join us for an exc
iting workshop where you will explore the work and leadership opportunitie
s offered through the Disney College Program at Walt Disney World.
LAST-MODIFIED:20260403T155829
SEQUENCE:0
STATUS:CONFIRMED
SUMMARY:Disney College Program Virtual Workshop
TRANSP:OPAQUE
END:VEVENT
END:VCALENDAR
