BEGIN:VCALENDAR
PRODID:-//Hannon Hill Events//Cascade CMS//EN
VERSION:2.0
X-WR-CALNAME:Digital AI Week
X-WR-TIMEZONE:America/New_York
BEGIN:VTIMEZONE
TZID:America/New_York
BEGIN:DAYLIGHT
TZOFFSETFROM:-0500
TZOFFSETTO:-0400
TZNAME:EDT
DTSTART:19700308T020000
RRULE:FREQ=YEARLY;BYMONTH=3;BYDAY=2SU
END:DAYLIGHT
BEGIN:STANDARD
TZOFFSETFROM:-0400
TZOFFSETTO:-0500
TZNAME:EST
DTSTART:19701101T020000
RRULE:FREQ=YEARLY;BYMONTH=11;BYDAY=1SU
END:STANDARD
END:VTIMEZONE
BEGIN:VEVENT
DTSTART:20260420T090000
DTEND:20260424T150000
DTSTAMP:20260317T172324
UID:fd96c405ac1e040b3f3b78408717154b
CREATED:20260317T165722
DESCRIPTION:Advance in the workplace. Earn a Career Skill Digital Certific
ate.
LAST-MODIFIED:20260317T171924
SEQUENCE:0
STATUS:CONFIRMED
SUMMARY:Digital AI Week
TRANSP:OPAQUE
END:VEVENT
END:VCALENDAR
