BEGIN:VCALENDAR
PRODID:-//Hannon Hill Events//Cascade CMS//EN
VERSION:2.0
X-WR-CALNAME:Something Like Sousa
X-WR-TIMEZONE:America/New_York
BEGIN:VTIMEZONE
TZID:America/New_York
BEGIN:DAYLIGHT
TZOFFSETFROM:-0500
TZOFFSETTO:-0400
TZNAME:EDT
DTSTART:19700308T020000
RRULE:FREQ=YEARLY;BYMONTH=3;BYDAY=2SU
END:DAYLIGHT
BEGIN:STANDARD
TZOFFSETFROM:-0400
TZOFFSETTO:-0500
TZNAME:EST
DTSTART:19701101T020000
RRULE:FREQ=YEARLY;BYMONTH=11;BYDAY=1SU
END:STANDARD
END:VTIMEZONE
BEGIN:VEVENT
DTSTART:20260426T140000
DTEND:20260426T160000
DTSTAMP:20260409T151756
UID:e6868f42ac1e040b7fba78239f9209b2
CREATED:20260122T112536
DESCRIPTION:Broward Symphonic Band
LAST-MODIFIED:20260409T151748
SEQUENCE:0
STATUS:CONFIRMED
SUMMARY:Something Like Sousa
TRANSP:OPAQUE
END:VEVENT
END:VCALENDAR
