BEGIN:VCALENDAR
PRODID:-//Hannon Hill Events//Cascade CMS//EN
VERSION:2.0
X-WR-CALNAME:Artemis &amp\; Night Sky Update: Forward to the Moon
X-WR-TIMEZONE:America/New_York
BEGIN:VTIMEZONE
TZID:America/New_York
BEGIN:DAYLIGHT
TZOFFSETFROM:-0500
TZOFFSETTO:-0400
TZNAME:EDT
DTSTART:19700308T020000
RRULE:FREQ=YEARLY;BYMONTH=3;BYDAY=2SU
END:DAYLIGHT
BEGIN:STANDARD
TZOFFSETFROM:-0400
TZOFFSETTO:-0500
TZNAME:EST
DTSTART:19701101T020000
RRULE:FREQ=YEARLY;BYMONTH=11;BYDAY=1SU
END:STANDARD
END:VTIMEZONE
BEGIN:VEVENT
DTSTART:20260424T203000
DTEND:20260424T211500
DTSTAMP:20260414T165316
UID:8dc35e0eac1e040b58b558eec5e12a69
CREATED:20260414T165124
DESCRIPTION:Artemis Update: Forward to the Moon
LAST-MODIFIED:20260414T165307
SEQUENCE:0
STATUS:CONFIRMED
SUMMARY:Artemis &amp\; Night Sky Update: Forward to the Moon
TRANSP:OPAQUE
END:VEVENT
END:VCALENDAR
