BEGIN:VCALENDAR
PRODID:-//Hannon Hill Events//Cascade CMS//EN
VERSION:2.0
X-WR-CALNAME:Event Lab
X-WR-TIMEZONE:America/New_York
BEGIN:VTIMEZONE
TZID:America/New_York
BEGIN:DAYLIGHT
TZOFFSETFROM:-0500
TZOFFSETTO:-0400
TZNAME:EDT
DTSTART:19700308T020000
RRULE:FREQ=YEARLY;BYMONTH=3;BYDAY=2SU
END:DAYLIGHT
BEGIN:STANDARD
TZOFFSETFROM:-0400
TZOFFSETTO:-0500
TZNAME:EST
DTSTART:19701101T020000
RRULE:FREQ=YEARLY;BYMONTH=11;BYDAY=1SU
END:STANDARD
END:VTIMEZONE
BEGIN:VEVENT
DTSTART:20250915T120000
DTEND:20250915T120000
DTSTAMP:20251023T121026
UID:8aa11650ac1e040b2e9f2ffc02764b82
CREATED:20250808T130109
DESCRIPTION:Event Planning Blueprint\, food &amp\; games!
LAST-MODIFIED:20250808T130109
SEQUENCE:0
STATUS:CONFIRMED
SUMMARY:Event Lab
TRANSP:OPAQUE
END:VEVENT
END:VCALENDAR
