BEGIN:VCALENDAR
PRODID:-//Hannon Hill Events//Cascade CMS//EN
VERSION:2.0
X-WR-CALNAME:Disney College Program Workshop
X-WR-TIMEZONE:America/New_York
BEGIN:VTIMEZONE
TZID:America/New_York
BEGIN:DAYLIGHT
TZOFFSETFROM:-0500
TZOFFSETTO:-0400
TZNAME:EDT
DTSTART:19700308T020000
RRULE:FREQ=YEARLY;BYMONTH=3;BYDAY=2SU
END:DAYLIGHT
BEGIN:STANDARD
TZOFFSETFROM:-0400
TZOFFSETTO:-0500
TZNAME:EST
DTSTART:19701101T020000
RRULE:FREQ=YEARLY;BYMONTH=11;BYDAY=1SU
END:STANDARD
END:VTIMEZONE
BEGIN:VEVENT
DTSTART:20250915T170000
DTEND:20250915T180000
DTSTAMP:20251023T121018
UID:10708eaeac1e040b170db7f0152d6fde
CREATED:20250903T123716
DESCRIPTION:Discover the Magic of the Disney College Program.\nReady to tu
rn your college experience into something unforgettable? Join us for an ex
citing workshop where you will explore the work and leadership opportuniti
es offered through the Disney College Program at Walt Disney World.
LAST-MODIFIED:20250903T123716
SEQUENCE:0
STATUS:CONFIRMED
SUMMARY:Disney College Program Workshop
TRANSP:OPAQUE
END:VEVENT
END:VCALENDAR
