BEGIN:VCALENDAR
PRODID:-//Hannon Hill Events//Cascade CMS//EN
VERSION:2.0
X-WR-CALNAME:Broward College Bachelor&apos\;s Programs Showcase
X-WR-TIMEZONE:America/New_York
BEGIN:VTIMEZONE
TZID:America/New_York
BEGIN:DAYLIGHT
TZOFFSETFROM:-0500
TZOFFSETTO:-0400
TZNAME:EDT
DTSTART:19700308T020000
RRULE:FREQ=YEARLY;BYMONTH=3;BYDAY=2SU
END:DAYLIGHT
BEGIN:STANDARD
TZOFFSETFROM:-0400
TZOFFSETTO:-0500
TZNAME:EST
DTSTART:19701101T020000
RRULE:FREQ=YEARLY;BYMONTH=11;BYDAY=1SU
END:STANDARD
END:VTIMEZONE
BEGIN:VEVENT
DTSTART:20250227T110000
DTEND:20250227T130000
DTSTAMP:20251023T115712
UID:1f1747c1ac1e040b75133dbf600ef5ee
CREATED:20250219T114254
DESCRIPTION:Join us for pizza\, popcorn\, and soda to learn more about the
 bachelor&apos\;s programs available at Broward College. The application p
rocess is easy and scholarships and grants are available. Advisors will be
 on hand to help you choose the best classes now to transfer later.
LAST-MODIFIED:20250219T121105
SEQUENCE:0
STATUS:CONFIRMED
SUMMARY:Broward College Bachelor&apos\;s Programs Showcase
TRANSP:OPAQUE
END:VEVENT
END:VCALENDAR
